BEGIN:VCALENDAR
VERSION:2.0
PRODID:-//Swimming Australia/Event//EN
BEGIN:VEVENT
LOCATION:Sydney Olympic Park Aquatic Centre\, Olympic Blvd\, Sydney Olympic Park NSW 2127
DESCRIPTION:
                    Sat\, 07/03/2020 to Sun\, 08/03/2020
            
                    Warm up- 7:30am on Saturday & Sunday
            
X-ALT-DESC:
                    <div class="field field--name-field-event-date-time field--type-daterange field--label-hidden field__item">Sat\, 07/03/2020 to Sun\, 08/03/2020</div>
            
                    <div class="field field--name-field-text field--type-string field--label-hidden field__item field__seconditem">Warm up- 7:30am on Saturday & Sunday</div>
            
DTSTART:20200306T203000Z
DTEND:20200308T070000Z
SUMMARY:2020 NSW Junior Metropolitan Championships
URL;VALUE=URI:https://nsw.swimming.org.au/events/2020-nsw-junior-metropolitan-championships
DTSTAMP:20200227T111333Z
UID:5e57a45d2cb343.44081670
END:VEVENT
END:VCALENDAR